BEGIN:VCALENDAR
VERSION:2.0
PRODID:-//GRÜNE Ostermundigen - ECPv6.15.15//NONSGML v1.0//EN
CALSCALE:GREGORIAN
METHOD:PUBLISH
X-WR-CALNAME:GRÜNE Ostermundigen
X-ORIGINAL-URL:https://gruene-ostermundigen.ch
X-WR-CALDESC:Veranstaltungen für GRÜNE Ostermundigen
REFRESH-INTERVAL;VALUE=DURATION:PT1H
X-Robots-Tag:noindex
X-PUBLISHED-TTL:PT1H
BEGIN:VTIMEZONE
TZID:Europe/Zurich
BEGIN:DAYLIGHT
TZOFFSETFROM:+0100
TZOFFSETTO:+0200
TZNAME:CEST
DTSTART:20250330T010000
END:DAYLIGHT
BEGIN:STANDARD
TZOFFSETFROM:+0200
TZOFFSETTO:+0100
TZNAME:CET
DTSTART:20251026T010000
END:STANDARD
BEGIN:DAYLIGHT
TZOFFSETFROM:+0100
TZOFFSETTO:+0200
TZNAME:CEST
DTSTART:20260329T010000
END:DAYLIGHT
BEGIN:STANDARD
TZOFFSETFROM:+0200
TZOFFSETTO:+0100
TZNAME:CET
DTSTART:20261025T010000
END:STANDARD
BEGIN:DAYLIGHT
TZOFFSETFROM:+0100
TZOFFSETTO:+0200
TZNAME:CEST
DTSTART:20270328T010000
END:DAYLIGHT
BEGIN:STANDARD
TZOFFSETFROM:+0200
TZOFFSETTO:+0100
TZNAME:CET
DTSTART:20271031T010000
END:STANDARD
END:VTIMEZONE
BEGIN:VEVENT
DTSTART;TZID=Europe/Zurich:20260423T190000
DTEND;TZID=Europe/Zurich:20260423T203000
DTSTAMP:20260420T114613
CREATED:20260415T203408Z
LAST-MODIFIED:20260415T203610Z
UID:9262-1776970800-1776976200@gruene-ostermundigen.ch
SUMMARY:Widerstand gegen ICE - Besuch aus Minnesota: 23. April\, 19 Uhr\, Tell-Saal
DESCRIPTION:
URL:https://gruene-ostermundigen.ch/event/widerstand-gegen-ice-besuch-aus-minnesota-23-april-19-uhr-tell-saal
LOCATION:Tell Saal\, Bernstrasse 101\, Ostermundigen\, 3072
CATEGORIES:Veranstaltungen
END:VEVENT
END:VCALENDAR